BEGIN:VCALENDAR
PRODID:NingEventWidget-v1
VERSION:2.0
METHOD:PUBLISH
BEGIN:VTIMEZONE
TZID:Europe/London
X-LIC-LOCATION:Europe/London
BEGIN:DAYLIGHT
TZOFFSETFROM:+0000
TZOFFSETTO:+0100
TZNAME:BST
DTSTART:19700329T010000
RRULE:FREQ=YEARLY;BYMONTH=3;BYDAY=-1SU
END:DAYLIGHT
BEGIN:STANDARD
TZOFFSETFROM:+0100
TZOFFSETTO:+0000
TZNAME:GMT
DTSTART:19701025T020000
RRULE:FREQ=YEARLY;BYMONTH=10;BYDAY=-1SU
END:STANDARD
END:VTIMEZONE
BEGIN:VEVENT
UID:6521695:Event:40946
DTSTAMP:20260419T125413Z
SUMMARY:Salon Chasse & Pêche
DESCRIPTION:Le Salon CHASSE & Pêche vous ouvre ses portes du 24 AU 26
  avril 2015 pour sa 4ème édition\n\nPour cette 4ème édition, place
  à une version 2.0 du salon !\n \nJusqu’alors dédié aux pratiqua
 nts des deux disciplines, le salon Chasse & Pêche s’ouvre désormai
 s aux familles et plus particulièrement aux passionnés de la  natur
 e. En effet la forêt, les sous-bois, les lacs et autres rivières, tr
 és présents dans notre  région, sont des espaces privilégiés où
  les aubois et champenois aiment se  promener et pratiquer leurs lois
 irs.\n \nPour se faire, le salon accueille un nombre RECORD d’expos
 ants, avec la venue de plus de 60 commerces spécialisés originaires 
 de toute la France, grandes marques nationales, associations et fédé
 rations. Pour les passionnés à l’affût des dernières tendances, 
 mais également pour les  nouveaux pratiquants à la recherche de mat
 ériels ou de simples conseils, ce  salon vous permettra de découvri
 r tous les aspects de la chasse et de la pêche.\nL’occasion de s’
 informer, faire des achats, participer aux démonstrations, mais  aus
 si de se réunir en famille ou entre amis dans une ambiance conviviale
 . Plus de 9000 visiteurs sont attendus sur cet événement !\n\nPour e
 n savoir plus, rendez-vous sur http://planetechasse.com/events/salon-c
 hasse-peche
DTSTART;TZID=Europe/London:20150424T000000
DTEND;TZID=Europe/London:20150425T235900
CATEGORIES:salon
LOCATION:Troyes
WEBSITE:http://www.troyes-expo.com/agenda/les-salons/Salon-CHASSE-PECH
 E_15.html
URL:http://www.troyes-expo.com/agenda/les-salons/Salon-CHASSE-PECHE_15
 .html
CONTACT:
ORGANIZER;CN="Planète CHASSE":http://planetechasse.com/profile/0naa58
 ynjkvud
ATTACH;FMTTYPE="image/jpeg":http://storage.ning.com/topology/rest/1.0/
 file/get/1137148815?profile=original
ATTENDEE;ROLE=REQ-PARTICIPANT;PARTSTAT=ACCEPTED;RSVP=TRUE;CN="Planète
  CHASSE":http://planetechasse.com/profile/0naa58ynjkvud
END:VEVENT
END:VCALENDAR
