BEGIN:VCALENDAR
PRODID:NingEventWidget-v1
VERSION:2.0
METHOD:PUBLISH
BEGIN:VTIMEZONE
TZID:Europe/London
X-LIC-LOCATION:Europe/London
BEGIN:DAYLIGHT
TZOFFSETFROM:+0000
TZOFFSETTO:+0100
TZNAME:BST
DTSTART:19700329T010000
RRULE:FREQ=YEARLY;BYMONTH=3;BYDAY=-1SU
END:DAYLIGHT
BEGIN:STANDARD
TZOFFSETFROM:+0100
TZOFFSETTO:+0000
TZNAME:GMT
DTSTART:19701025T020000
RRULE:FREQ=YEARLY;BYMONTH=10;BYDAY=-1SU
END:STANDARD
END:VTIMEZONE
BEGIN:VEVENT
UID:6521695:Event:41115
DTSTAMP:20260419T140601Z
SUMMARY:Saison de Chasse
DESCRIPTION:Du vendredi 17 au dimanche 19 avril prochain, le salon Sai
 son de Chasse réunira le monde de la chasse à Lille, au sein du pres
 tigieux Grand Palais.\nEquipement, territoires, art de vie : plus de c
 ent fournisseurs soigneusement sélectionnés vous feront découvrir l
 eurs produits.  Leur liste est en ligne sur le site du salon : www.sai
 sondechasse.net  Un important programme d’animations a été égalem
 ent élaboré : présentations de chiens, simulateur de tir, cours de 
 cuisine, festival du film de chasse, vous donnent rendez-vous pendant 
 les trois jours du salon.  Une soirée Saint Hubert est organisée au 
 salon, le samedi 18 avril à partir de 19h00 : dîner du chasseur, con
 cert de trompes, animation sur les stands ; venez nombreux fêter la c
 hasse avec nos exposants !\n\nPour en savoir plus, rendez-vous sur htt
 p://planetechasse.com/events/saison-de-chasse
DTSTART;TZID=Europe/London:20150417T100000
DTEND;TZID=Europe/London:20150419T160000
CATEGORIES:salon
LOCATION:Lille
WEBSITE:http://saisondechasse.net/
URL:http://saisondechasse.net/
CONTACT:
ORGANIZER;CN="Planète CHASSE":http://planetechasse.com/profile/0naa58
 ynjkvud
ATTACH;FMTTYPE="image/jpeg":http://storage.ning.com/topology/rest/1.0/
 file/get/1137149633?profile=original
ATTENDEE;ROLE=REQ-PARTICIPANT;PARTSTAT=ACCEPTED;RSVP=TRUE;CN="Planète
  CHASSE":http://planetechasse.com/profile/0naa58ynjkvud
END:VEVENT
END:VCALENDAR
